BEGIN:VCALENDAR
VERSION:2.0
PRODID:-//Minot Quilt Guild - &quot;Prairie Quilters&quot; - ECPv6.15.20//NONSGML v1.0//EN
CALSCALE:GREGORIAN
METHOD:PUBLISH
X-ORIGINAL-URL:https://minotquilters.com
X-WR-CALDESC:Events for Minot Quilt Guild - &quot;Prairie Quilters&quot;
REFRESH-INTERVAL;VALUE=DURATION:PT1H
X-Robots-Tag:noindex
X-PUBLISHED-TTL:PT1H
BEGIN:VTIMEZONE
TZID:UTC
BEGIN:STANDARD
TZOFFSETFROM:+0000
TZOFFSETTO:+0000
TZNAME:UTC
DTSTART:20240101T000000
END:STANDARD
END:VTIMEZONE
BEGIN:VEVENT
DTSTART;TZID=UTC:20250404T100000
DTEND;TZID=UTC:20250404T200000
DTSTAMP:20260421T154409
CREATED:20240313T192909Z
LAST-MODIFIED:20240820T204508Z
UID:2087-1743760800-1743796800@minotquilters.com
SUMMARY:MPQG Annual Festival
DESCRIPTION:2025 Annual Quilt Festival – Theme is: Remembering Our Past\, Shaping Our Future!!
URL:https://minotquilters.com/index.php/event/mpqgfridayfestival/
LOCATION:North Dakota State Fair Center\, 2005 Burdick Expy E\, Minot\, ND\, 58701\, United States
END:VEVENT
BEGIN:VEVENT
DTSTART;TZID=UTC:20250405T100000
DTEND;TZID=UTC:20250405T170000
DTSTAMP:20260421T154409
CREATED:20240313T192957Z
LAST-MODIFIED:20240820T204408Z
UID:2089-1743847200-1743872400@minotquilters.com
SUMMARY:MPQG Annual Festival
DESCRIPTION:2025 Annual Quilt Festival – Theme is: Remembering Our Past\, Shaping Our Future!! \n 
URL:https://minotquilters.com/index.php/event/mpqg-annual-festival-2/
LOCATION:North Dakota State Fair Center\, 2005 Burdick Expy E\, Minot\, ND\, 58701\, United States
END:VEVENT
BEGIN:VEVENT
DTSTART;TZID=UTC:20250417T180000
DTEND;TZID=UTC:20250417T190000
DTSTAMP:20260421T154409
CREATED:20240314T165046Z
LAST-MODIFIED:20250120T221827Z
UID:2129-1744912800-1744916400@minotquilters.com
SUMMARY:Board Meeting
DESCRIPTION:MPQG Board meeting in the Fellowship Hall.
URL:https://minotquilters.com/index.php/event/board-meeting-3/
LOCATION:Vincent United Methodist Church\, 1024 2nd St SE\, Minot\, ND\, United States
END:VEVENT
BEGIN:VEVENT
DTSTART;TZID=UTC:20250417T190000
DTEND;TZID=UTC:20250417T203000
DTSTAMP:20260421T154409
CREATED:20250120T225438Z
LAST-MODIFIED:20250120T225438Z
UID:2675-1744916400-1744921800@minotquilters.com
SUMMARY:Festival Meeting
DESCRIPTION:MPQG Festival meeting in the Fellowship Hall.
URL:https://minotquilters.com/index.php/event/festival-meeting-7/
LOCATION:Vincent United Methodist Church\, 1024 2nd St SE\, Minot\, ND\, United States
END:VEVENT
BEGIN:VEVENT
DTSTART;TZID=UTC:20250426T090000
DTEND;TZID=UTC:20250426T170000
DTSTAMP:20260421T154409
CREATED:20240311T203453Z
LAST-MODIFIED:20250120T221908Z
UID:2010-1745658000-1745686800@minotquilters.com
SUMMARY:Saturday Sewing
DESCRIPTION:Open sewing day at Vincent United Methodist Church
URL:https://minotquilters.com/index.php/event/saturday-sewing-2-2/
LOCATION:Vincent United Methodist Church\, 1024 2nd St SE\, Minot\, ND\, United States
END:VEVENT
END:VCALENDAR