BEGIN:VCALENDAR
VERSION:2.0
PRODID:-//Minot Quilt Guild - &quot;Prairie Quilters&quot; - ECPv6.15.20//NONSGML v1.0//EN
CALSCALE:GREGORIAN
METHOD:PUBLISH
X-ORIGINAL-URL:https://minotquilters.com
X-WR-CALDESC:Events for Minot Quilt Guild - &quot;Prairie Quilters&quot;
REFRESH-INTERVAL;VALUE=DURATION:PT1H
X-Robots-Tag:noindex
X-PUBLISHED-TTL:PT1H
BEGIN:VTIMEZONE
TZID:UTC
BEGIN:STANDARD
TZOFFSETFROM:+0000
TZOFFSETTO:+0000
TZNAME:UTC
DTSTART:20250101T000000
END:STANDARD
END:VTIMEZONE
BEGIN:VEVENT
DTSTART;TZID=UTC:20261203T130000
DTEND;TZID=UTC:20261203T163000
DTSTAMP:20260422T024430
CREATED:20251028T134824Z
LAST-MODIFIED:20251028T134824Z
UID:2997-1796302800-1796315400@minotquilters.com
SUMMARY:Stitching Sisters
DESCRIPTION:Stitching Sisters meets Thursdays in the downstairs Conference room.
URL:https://minotquilters.com/index.php/event/stitching-sisters-17/
LOCATION:Minot Public Library\, 516 2nd Ave SW\, Minot\, ND\, 58701\, United States
END:VEVENT
BEGIN:VEVENT
DTSTART;TZID=UTC:20261203T190000
DTEND;TZID=UTC:20261203T203000
DTSTAMP:20260422T024430
CREATED:20251028T135604Z
LAST-MODIFIED:20251028T135604Z
UID:3014-1796324400-1796329800@minotquilters.com
SUMMARY:Guild Meeting
DESCRIPTION:Minot Quilt Guild meeting in the Fellowship Hall.
URL:https://minotquilters.com/index.php/event/guild-meeting-8/
LOCATION:Vincent United Methodist Church\, 1024 2nd St SE\, Minot\, ND\, United States
END:VEVENT
END:VCALENDAR