BEGIN:VCALENDAR
VERSION:2.0
PRODID:-//Minot Quilt Guild - &quot;Prairie Quilters&quot; - ECPv6.15.20//NONSGML v1.0//EN
CALSCALE:GREGORIAN
METHOD:PUBLISH
X-ORIGINAL-URL:https://minotquilters.com
X-WR-CALDESC:Events for Minot Quilt Guild - &quot;Prairie Quilters&quot;
REFRESH-INTERVAL;VALUE=DURATION:PT1H
X-Robots-Tag:noindex
X-PUBLISHED-TTL:PT1H
BEGIN:VTIMEZONE
TZID:UTC
BEGIN:STANDARD
TZOFFSETFROM:+0000
TZOFFSETTO:+0000
TZNAME:UTC
DTSTART:20240101T000000
END:STANDARD
END:VTIMEZONE
BEGIN:VEVENT
DTSTART;TZID=UTC:20250918T180000
DTEND;TZID=UTC:20250918T190000
DTSTAMP:20260421T191559
CREATED:20240315T155622Z
LAST-MODIFIED:20250120T224129Z
UID:2141-1758218400-1758222000@minotquilters.com
SUMMARY:Board Meeting
DESCRIPTION:MPQG Board meeting in the Fellowship Hall.
URL:https://minotquilters.com/index.php/event/board-meeting-8/
LOCATION:Vincent United Methodist Church\, 1024 2nd St SE\, Minot\, ND\, United States
END:VEVENT
END:VCALENDAR