BEGIN:VCALENDAR
VERSION:2.0
PRODID:-//Minot Quilt Guild - &quot;Prairie Quilters&quot; - ECPv6.15.20//NONSGML v1.0//EN
CALSCALE:GREGORIAN
METHOD:PUBLISH
X-WR-CALNAME:Minot Quilt Guild - &quot;Prairie Quilters&quot;
X-ORIGINAL-URL:https://minotquilters.com
X-WR-CALDESC:Events for Minot Quilt Guild - &quot;Prairie Quilters&quot;
REFRESH-INTERVAL;VALUE=DURATION:PT1H
X-Robots-Tag:noindex
X-PUBLISHED-TTL:PT1H
BEGIN:VTIMEZONE
TZID:UTC
BEGIN:STANDARD
TZOFFSETFROM:+0000
TZOFFSETTO:+0000
TZNAME:UTC
DTSTART:20240101T000000
END:STANDARD
END:VTIMEZONE
BEGIN:VEVENT
DTSTART;TZID=UTC:20250731T180000
DTEND;TZID=UTC:20250731T203000
DTSTAMP:20260421T151230
CREATED:20240311T205247Z
LAST-MODIFIED:20250609T164821Z
UID:2045-1753984800-1753993800@minotquilters.com
SUMMARY:Guild Meeting - Scandinavian Park - Potluck
DESCRIPTION:Minot Quilt Guild meeting at Scandinavian Park.  This is a Potluck.  Letter’s M-Z
URL:https://minotquilters.com/index.php/event/minot-quilt-guild-meeting-3/
LOCATION:Scandinavian Heritage Park\, 1020 S Broadway\, Minot\, 58701\, United States
END:VEVENT
END:VCALENDAR