BEGIN:VCALENDAR
VERSION:2.0
PRODID:-//Minot Quilt Guild - &quot;Prairie Quilters&quot; - ECPv6.15.20//NONSGML v1.0//EN
CALSCALE:GREGORIAN
METHOD:PUBLISH
X-ORIGINAL-URL:https://minotquilters.com
X-WR-CALDESC:Events for Minot Quilt Guild - &quot;Prairie Quilters&quot;
REFRESH-INTERVAL;VALUE=DURATION:PT1H
X-Robots-Tag:noindex
X-PUBLISHED-TTL:PT1H
BEGIN:VTIMEZONE
TZID:UTC
BEGIN:STANDARD
TZOFFSETFROM:+0000
TZOFFSETTO:+0000
TZNAME:UTC
DTSTART:20240101T000000
END:STANDARD
END:VTIMEZONE
BEGIN:VEVENT
DTSTART;TZID=UTC:20250605T130000
DTEND;TZID=UTC:20250605T163000
DTSTAMP:20260421T140255
CREATED:20240311T204405Z
LAST-MODIFIED:20250120T222954Z
UID:2025-1749128400-1749141000@minotquilters.com
SUMMARY:Stitching Sisters
DESCRIPTION:Stitching Sisters meets Thursdays in the downstairs Conference room.
URL:https://minotquilters.com/index.php/event/stitching-sisters-2/
LOCATION:Minot Public Library\, 516 2nd Ave SW\, Minot\, ND\, 58701\, United States
END:VEVENT
BEGIN:VEVENT
DTSTART;TZID=UTC:20250605T190000
DTEND;TZID=UTC:20250605T203000
DTSTAMP:20260421T140255
CREATED:20240311T205222Z
LAST-MODIFIED:20250120T223019Z
UID:2043-1749150000-1749155400@minotquilters.com
SUMMARY:Guild Meeting
DESCRIPTION:Minot Quilt Guild meeting in the Fellowship Hall.
URL:https://minotquilters.com/index.php/event/minot-quilt-guild-meeting-2/
LOCATION:Vincent United Methodist Church\, 1024 2nd St SE\, Minot\, ND\, United States
END:VEVENT
END:VCALENDAR