BEGIN:VCALENDAR
VERSION:2.0
PRODID:-//Minot Quilt Guild - &quot;Prairie Quilters&quot; - ECPv6.15.20//NONSGML v1.0//EN
CALSCALE:GREGORIAN
METHOD:PUBLISH
X-ORIGINAL-URL:https://minotquilters.com
X-WR-CALDESC:Events for Minot Quilt Guild - &quot;Prairie Quilters&quot;
REFRESH-INTERVAL;VALUE=DURATION:PT1H
X-Robots-Tag:noindex
X-PUBLISHED-TTL:PT1H
BEGIN:VTIMEZONE
TZID:UTC
BEGIN:STANDARD
TZOFFSETFROM:+0000
TZOFFSETTO:+0000
TZNAME:UTC
DTSTART:20240101T000000
END:STANDARD
END:VTIMEZONE
BEGIN:VEVENT
DTSTART;TZID=UTC:20250426T090000
DTEND;TZID=UTC:20250426T170000
DTSTAMP:20260421T173736
CREATED:20240311T203453Z
LAST-MODIFIED:20250120T221908Z
UID:2010-1745658000-1745686800@minotquilters.com
SUMMARY:Saturday Sewing
DESCRIPTION:Open sewing day at Vincent United Methodist Church
URL:https://minotquilters.com/index.php/event/saturday-sewing-2-2/
LOCATION:Vincent United Methodist Church\, 1024 2nd St SE\, Minot\, ND\, United States
END:VEVENT
END:VCALENDAR