BEGIN:VCALENDAR
VERSION:2.0
PRODID:-//Minot Quilt Guild - &quot;Prairie Quilters&quot; - ECPv6.15.20//NONSGML v1.0//EN
CALSCALE:GREGORIAN
METHOD:PUBLISH
X-WR-CALNAME:Minot Quilt Guild - &quot;Prairie Quilters&quot;
X-ORIGINAL-URL:https://minotquilters.com
X-WR-CALDESC:Events for Minot Quilt Guild - &quot;Prairie Quilters&quot;
REFRESH-INTERVAL;VALUE=DURATION:PT1H
X-Robots-Tag:noindex
X-PUBLISHED-TTL:PT1H
BEGIN:VTIMEZONE
TZID:UTC
BEGIN:STANDARD
TZOFFSETFROM:+0000
TZOFFSETTO:+0000
TZNAME:UTC
DTSTART:20240101T000000
END:STANDARD
END:VTIMEZONE
BEGIN:VEVENT
DTSTART;TZID=UTC:20250404T100000
DTEND;TZID=UTC:20250404T200000
DTSTAMP:20260421T171206
CREATED:20240313T192909Z
LAST-MODIFIED:20240820T204508Z
UID:2087-1743760800-1743796800@minotquilters.com
SUMMARY:MPQG Annual Festival
DESCRIPTION:2025 Annual Quilt Festival – Theme is: Remembering Our Past\, Shaping Our Future!!
URL:https://minotquilters.com/index.php/event/mpqgfridayfestival/
LOCATION:North Dakota State Fair Center\, 2005 Burdick Expy E\, Minot\, ND\, 58701\, United States
END:VEVENT
END:VCALENDAR